Workbook

Sheet Ziedojumu un dāvinājumu pārskat
A1: [Biedrības / nodibinājuma nosaukums]
A2: [Reģ.Nr.]
A4: Ziedojumu un dāvinājumu pārskats
B5: Taksācijas periods
A7: Nr. p.k. | B7: Rādītāja nosaukums | C7: Pārskata gads, EUR
A8: I | B8: ATLIKUMS PĀRSKATA GADA SĀKUMĀ (KOPSUMMA), tai skaitā: | C8: =C12+C13 -> 0
B9: skaidra nauda
B10: bezskaidra nauda
B11: mantisko ziedojumu un dāvinājumu vērtība
A12: 1 | B12: Vispārīgie ziedojumi (neierobežotai lietošanai), tai skaitā anonīmi ziedojumi un dāvinājumi
A13: 2 | B13: Mērķziedojumi (noteiktiem mērķiem), tai skaitā anonīmi ziedojumi un dāvinājumi
A14: II | B14: PĀRSKATA GADĀ SAŅEMTO ZIEDOJUMU UN DĀVINĀJUMU KOPSUMMA, tai skaitā: | C14: =C19+C26 -> 0
B15: skaidrā nauda
B16: t.sk. skaidrā naudā saņemtie ziedojumi un dāvinājumi, kas pārskata gadā ieskaitīti maksājuma kontā
B17: beizskaidrā naudā
B18: mantisks ziedojums vai dāvinājums (naudas izteiksmē)
A19: 1 | B19: Vispārīgie ziedojumi (neierobežotai lietošanai) | C19: =SUM(C20:C25) -> 0
A20: 1.1 | B20: Latvijas Republikā reģistrētās juridiskās personas
A21: 1.2 | B21: Ārvalstu juridiskās personas
A22: 1.3 | B22: Fiziskās personas (rezidenti)
A23: 1.4 | B23: Fiziskās personas (nerezidenti)
A24: 1.5 | B24: Anonīmi (nezināmi) ziedotāji un dāvinātāji
A25: 1.6 | B25: Citi ziedotāji
A26: 2. | B26: Mērķziedojumi (noteiktiem mērķiem) | C26: =SUM(C27:C32) -> 0
A27: 2.1 | B27: Latvijas Republikā reģistrētās juridiskās personas
A28: 2.2 | B28: Ārvalstu juridiskās personas
A29: 2.3 | B29: Fiziskās personas (rezidenti)
A30: 2.4 | B30: Fiziskās personas (nerezidenti)
A31: 2.5 | B31: Anonīmi (nezināmi) ziedotāji un dāvinātāji
A32: 2.6 | B32: Citi ziedotāji
A33: III | B33: ZIEDOJUMU UN DĀVINĀJUMU IZLIETOJUMA KOPSUMMA | C33: =C34+C40 -> 0
A34: 1 | B34: Vispārīgo ziedojumu (neierobežotai lietošanai), tai skaitā anonīmo ziedojumu un dāvinājumu izlietojums | C34: =SUM(C36:C39) -> 0
A35: 1.1 | B35: Statūtos paredzētajiem mērķiem un uzdevumiem
A36: 1.1.1 | B36: Sabiedriskā labuma darbībai
A37: 1.1.2 | B37: Citiem mērķiem un uzdevumiem
A38: 1.2 | B38: Administratīvajiem izdevumiem
A39: 1.3 | B39: Pārējiem saimnieciskās darbības izdevumiem
A40: 2 | B40: Mērķziedojumu (noteiktiem mērķiem), tai skiatā anonīmo ziedojumu un dāvinājumu izlietojums | C40: =SUM(C42:C45) -> 0
A41: 2.1 | B41: Statūtos paredzētajiem mērķiem un uzdevumiem
A42: 2.1.1 | B42: Sabiedriskā labuma darbībai
A43: 2.1.2 | B43: Citiem mērķiem un uzdevumiem
A44: 2.2 | B44: Administratīvajiem izdevumiem
A45: 2.3 | B45: Pārējiem saimnieciskās darbības izdevumiem
A46: IV | B46: ATLIKUMS PĀRSKATA GADA BEIGĀS | C46: =C8+C14-C33 -> 0
B47: skaidra nauda
B48: bezskaidra nauda
B49: mantisko ziedojumu un dāvinājumu vērtība
A50: 1 | B50: Vispārīgie ziedojumi (neierobežotai lietošanai), tai skaitā anonīmi ziedojumi un dāvinājumi
A51: 2 | B51: Mērķziedojumi (noteiktiem mērķiem), tai skaitā anonīmi ziedojumi un dāvinājumi
B54: [V.Uzvārds] | C54: [paraksts]
B55: [datums]

Sheet 1.pielikums
A1: 1.pielikums
A2: ='Ziedojumu un dāvinājumu pārskat'!A1 -> [Biedrības / nodibinājuma nosaukums]
A3: ='Ziedojumu un dāvinājumu pārskat'!A2 -> [Reģ.Nr.]
A5: Ziedojumu un dāvinājuma devēji
A7: Nr.p.k. | B7: Juridiskās personas nosaukums vai fiziskās personas vārds, uzvārds | C7: Juridiskās personas (nodokļu maksātāja) reģistrācijas kods (reģistrācijas numurs) vai fiziskās personas (nodokļu maksātāja) kods (ārvalsts fiziskai personai – personas identifikācijas numurs rezidences valstī) | D7: Valsts, ārvalsts juridiskās personas juridiskā adrese | E7: Ziedojuma summa (naudā vai mantā) | F7: Ziedojuma veids (vispārīgs ziedojums vai mērķziedojums)
A8: 1 | B8: 2 | C8: 3 | D8: 4 | E8: 5 | F8: 6
A9: I LATVIJAS REPUBLIKAS REĢISTRĒTĀS JURIDISKĀS PERSONAS
A10: 1
A11: 2
A12: 3
A13: II ĀRVALSTU JURIDISKĀS PERSONAS
A14: 1
A15: 2
A16: 3
A17: III FIZISKĀS PERSONAS – IEKŠZEMES NODOKĻU MAKSĀTĀJI (REZIDENTI)
A18: 1
A19: 2
A20: 3
A21: IV FIZISKĀS PERSONAS – ĀRVALSTU NODOKĻU MAKSĀTĀJI (NEREZIDENTI)
A22: 1
A23: 2
A24: 3

Sheet 2.pielikums
O1: 2.pielikums
A2: ='Ziedojumu un dāvinājumu pārskat'!A1 -> [Biedrības / nodibinājuma nosaukums]
A3: ='Ziedojumu un dāvinājumu pārskat'!A2 -> [Reģ.Nr.]
A5: Detalizēta informācija par izlietotajiem ziedojumiem un dāvinājumiem | K5: ='Ziedojumu un dāvinājumu pārskat'!C5 -> 0 | L5: .gadā
A7: Nr.p.k. | B7: Ziedojumu un dāvinājumu izlietojuma apraksts | C7: Ziedojumu un dāvinājumu izlietojums (euro) | D7: Ziedojumu un dāvinājumu izlietojuma summa (euro) | G7: Ziedojumu un dāvinājumu izlietojuma summas pa veidiem (euro) | K7: Sabiedriskā labuma darbības joma* | L7: Sabiedriskā labuma mērķa grupa** | M7: Sabiedriskā labuma guvēju skaits
D8: no vispārīgiem ziedojumiem (neierobežotai lietošanai) | E8: no mērķziedojumiem (noteiktiem mērķiem) | F8: no anonīmiem ziedojumiem un dāvinājumiem | G8: sabiedriskā labuma darbībai (SL) | H8: administratīvajiem izdevumiem (AI) | I8: saimnieciskās darbības izdevumiem (SD) | J8: citiem mērķiem un uzdevumiem (SC) | M8: fiziskās personas | N8: objekts | O8: teritorija
A9: 1 | B9: 2 | C9: 3 | D9: 4 | E9: 5 | F9: 6 | G9: 7 | H9: 8 | I9: 9 | J9: 10 | K9: 11 | L9: 12 | M9: 13 | N9: 14 | O9: 15
A15: Kopā | B15: x | C15: =SUM(C10:C14) -> 0 | D15: =SUM(D10:D14) -> 0 | E15: =SUM(E10:E14) -> 0 | F15: =SUM(F10:F14) -> 0 | G15: =SUM(G10:G14) -> 0 | H15: =SUM(H10:H14) -> 0 | I15: =SUM(I10:I14) -> 0 | J15: =SUM(J10:J14) -> 0 | K15: x | L15: x | M15: =SUM(M10:M14) -> 0 | N15: =SUM(N10:N14) -> 0 | O15: x
A17: Piezīmes.
A18: 1. 7., 8., 9., 10., 11., 12., 13., 14. un 15. aili aizpilda sabiedriskā labuma organizācijas.
A20: * Norādot sabiedriskā labuma darbības jomu, lieto šādus kodus:
A21: 1 – labdarība;
A22: 2 – cilvēktiesību un indivīda tiesību aizsardzība;
A23: 3 – pilsoniskas sabiedrības attīstība;
A24: 4 – izglītības veicināšana;
A25: 5 – zinātnes veicināšana;
A26: 6 – kultūras veicināšana;
A27: 7 – veselības veicināšana;
A28: 8 – slimību profilakse;
A29: 9 – sporta atbalstīšana;
... A51: 17 – cita.
